BEGIN:VCALENDAR
VERSION:2.0
PRODID:-//Go Squared Education - ECPv6.2.8.2//NONSGML v1.0//EN
CALSCALE:GREGORIAN
METHOD:PUBLISH
X-ORIGINAL-URL:https://go2.in.th
X-WR-CALDESC:Events for Go Squared Education
REFRESH-INTERVAL;VALUE=DURATION:PT1H
X-Robots-Tag:noindex
X-PUBLISHED-TTL:PT1H
BEGIN:VTIMEZONE
TZID:Asia/Krasnoyarsk
BEGIN:STANDARD
TZOFFSETFROM:+0700
TZOFFSETTO:+0700
TZNAME:+07
DTSTART:20240101T000000
END:STANDARD
END:VTIMEZONE
BEGIN:VEVENT
DTSTART;VALUE=DATE:20240309
DTEND;VALUE=DATE:20240310
DTSTAMP:20260420T010513
CREATED:20240304T110444Z
LAST-MODIFIED:20240304T110943Z
UID:2720-1709942400-1710028799@go2.in.th
SUMMARY:BPK Maklom Championship 2024
DESCRIPTION:มาแล้ว !! การแข่งขันหมากล้อม BPK Maklom Championship 2024\nณ โรงเรียนบางปะกอกวิทยาคม\n\n\nเปิดรับสมัครแล้ววันนี้ \n\n\nที่ >> ลิ้ง Google form ในการสมัครการแข่งขัน\nhttps://forms.gle/bdSrTgLERHH7M7TS7\n\n\nการรับสมัครมีจำนวนจำกัด เพียงรุ่นละ 16 คน\n(ยกเว้นรุ่น Low Kyu ประถมศึกษา รับ 48 คน และ Friendship ไม่จำกัดจำนวน )
URL:https://go2.in.th/event/bpk-maklom-championship-2024/
LOCATION:โรงเรียนบางปะกอกวิทยาคม\, Bangkok\, Thailand
ATTACH;FMTTYPE=image/jpeg:https://go2.in.th/wp-content/uploads/2024/03/BPK24.jpg
END:VEVENT
END:VCALENDAR