BEGIN:VCALENDAR
VERSION:2.0
PRODID:-//Go Squared Education - ECPv6.2.8.2//NONSGML v1.0//EN
CALSCALE:GREGORIAN
METHOD:PUBLISH
X-ORIGINAL-URL:https://go2.in.th
X-WR-CALDESC:Events for Go Squared Education
REFRESH-INTERVAL;VALUE=DURATION:PT1H
X-Robots-Tag:noindex
X-PUBLISHED-TTL:PT1H
BEGIN:VTIMEZONE
TZID:Asia/Krasnoyarsk
BEGIN:STANDARD
TZOFFSETFROM:+0700
TZOFFSETTO:+0700
TZNAME:+07
DTSTART:20240101T000000
END:STANDARD
END:VTIMEZONE
BEGIN:VEVENT
DTSTART;VALUE=DATE:20240420
DTEND;VALUE=DATE:20240421
DTSTAMP:20260419T234023
CREATED:20231208T020937Z
LAST-MODIFIED:20240327T083428Z
UID:1829-1713571200-1713657599@go2.in.th
SUMMARY:Natha community Go Tournament 2024
DESCRIPTION:Natha community Go Tournament 2024\nชมรมจิตอาสาหมากล้อม ร่วมกับวัดพระบาทน้ำพุ และสมาคมกีฬาหมากล้อมแห่งประเทศไทย\nจัดการแข่งขันหมากล้อมชิงถ้วยรางวัลหลวงพ่ออลงกต \nในวันเสาร์ที่ 20 เมษายน 2567\nณ The Tara ชั้น B1 (ซีพีออลล์แจ้งวัฒนะ) \nรุ่นการแข่งขัน\n1. รุ่น 1 ดั้ง 32 คน\n2. รุ่น 2 ดั้ง- 3 ดั้ง 24 คน\n3. รุ่น 1-2 คิว 32 คน\n4. รุ่น 3-4 คิว 32 คน\n5. รุ่น 5-6 คิว 32 คน\n6. รุ่น 7-8 คิว 32 คน\n7. รุ่น 9-10 คิว 32คน\n8. รุ่น 11-12 คิว 32คน\n9. Friendship 64 คน\n(จำนวนผู้สมัครและรุ่นอาจมีการเปลี่ยนแปลงตามความเหมาะสม) \nค่าสมัคร ทุกรุ่น 400 บาท\nโดยรายได้หลังหักค่าใช้จ่ายบริจาคให้กับทางวัดพระบาทน้ำพุ\nชำระค่าสมัคร บัญชี ธนาคารกรุงเทพ\n0477111686\nนายรัชชยุต ภูวัชร์เตชากร\nรับสมัคร วันนี้ถึง 15 เมษายน 2567 หรือเต็มจำนวน \nสมัคร\nhttps://docs.google.com/forms/d/e/1FAIpQLSdjF8rsehHmbctBWqM-xUgS3gw0HWTG_zEZN3OyZHUjoTo-ig/viewform \nตรวจสอบ\nhttps://docs.google.com/spreadsheets/d/1jhAUcxjH6byaFJbxxBBwqeKzs23u-1M5XGcdhahiJIA/edit#gid=1893792220
URL:https://go2.in.th/event/%e0%b8%a3%e0%b8%b2%e0%b8%a2%e0%b8%81%e0%b8%b2%e0%b8%a3%e0%b9%81%e0%b8%82%e0%b9%88%e0%b8%87-%e0%b8%87%e0%b8%b2%e0%b8%99%e0%b8%99%e0%b8%b2%e0%b8%96%e0%b8%b0/
LOCATION:Rayong
CATEGORIES:รายการแข่ง
ATTACH;FMTTYPE=image/jpeg:https://go2.in.th/wp-content/uploads/2023/12/NataGO-3-1536x1127-1.jpg
END:VEVENT
END:VCALENDAR