BEGIN:VCALENDAR
VERSION:2.0
PRODID:-//Go Squared Education - ECPv6.2.8.2//NONSGML v1.0//EN
CALSCALE:GREGORIAN
METHOD:PUBLISH
X-ORIGINAL-URL:https://go2.in.th
X-WR-CALDESC:Events for Go Squared Education
REFRESH-INTERVAL;VALUE=DURATION:PT1H
X-Robots-Tag:noindex
X-PUBLISHED-TTL:PT1H
BEGIN:VTIMEZONE
TZID:Asia/Krasnoyarsk
BEGIN:STANDARD
TZOFFSETFROM:+0700
TZOFFSETTO:+0700
TZNAME:+07
DTSTART:20230101T000000
END:STANDARD
END:VTIMEZONE
BEGIN:VEVENT
DTSTART;VALUE=DATE:20240428
DTEND;VALUE=DATE:20240429
DTSTAMP:20260424T223628
CREATED:20240327T055716Z
LAST-MODIFIED:20240327T083312Z
UID:2780-1714262400-1714348799@go2.in.th
SUMMARY:การแข่งขัน Rayong Go Open 2024
DESCRIPTION:🏆 การแข่งขัน Rayong Go Open 2024\n📌 Passion Hall ศูนย์การค้า Passione Shopping Destination ระยอง\n📆 28 เมษายน 2567\n10:30-18:00 \nการแข่งขันแบ่งเป็น 8 ประเภท \n1. Friendship 8 ขวบ (เกิดตั้งแต่ พ.ศ. 2558)\nแข่งกระดาน 9×9 แข่ง 4 รอบ มีเวลาให้ 15 นาทีโคมิบวกให้ขาว 3.5 แต้ม \n2. Friendship 12 ขวบ (เกิดตั้งแต่ พ.ศ. 2554)\nแข่งกระดาน 9×9 แข่ง 4 รอบ มีเวลาให้ 15 นาที โคมิบวกให้ขาว 3.5 แต้ม \n3. Friendship ไม่จำกัดอายุ\nแข่งกระดาน 9×9 แข่ง 4 รอบ มีเวลาให้ 15 นาที โคมิบวกให้ขาว 3.5 แต้ม \n4. Morning Star (เพึ่งขึ้นกระดาน 19×19)\nแข่งกระดาน 19×19 แข่ง 4 รอบ มีเวลาให้ 60 นาที โคมิบวกให้ขาว 6.5 แต้ม \n5. Pre-Low kyu แข่งกระดาน 19×19\nแข่ง 4 รอบ มีเวลาให้ 60 นาที โคมิบวกให้ขาว 6.5 แต้ม \n6. Low Kyu  แข่งกระดาน 19×19\nแข่ง 4 รอบ มีเวลาให้ 60 นาที โคมิบวกให้ขาว 6.5 แต้ม \n7. High Kyu  แข่งกระดาน 19×19\nแข่ง 4 รอบ มีเวลาให้ 60 นาที โคมิบวกให้ขาว 6.5 แต้ม \n8. One Dan  แข่งกระดาน 19×19\nแข่ง 4 รอบ มีเวลาให้ 60 นาที โคมิบวกให้ขาว 6.5 แต้ม \nในแต่ละประเภทมีถ้วยรางวัลให้ที่ 1-5 และ ผู้เข้าแข่งขันทุกคนจะได้รับเกียรติบัตร \nสมัครได้ที่ นายไพโรจน์ กิติกรเศรษฐ์ Line/ID 0866250775
URL:https://go2.in.th/event/%e0%b8%81%e0%b8%b2%e0%b8%a3%e0%b9%81%e0%b8%82%e0%b9%88%e0%b8%87%e0%b8%82%e0%b8%b1%e0%b8%99-rayong-go-open-2024/
LOCATION:ศูนย์การค้า Passione Shopping Destination\, Rayong\, Thailand
CATEGORIES:รายการแข่ง
ATTACH;FMTTYPE=image/png:https://go2.in.th/wp-content/uploads/2024/03/Rayong-Go-Open-2024-724-x-1024-px.png
END:VEVENT
BEGIN:VEVENT
DTSTART;VALUE=DATE:20240428
DTEND;VALUE=DATE:20240429
DTSTAMP:20260424T223628
CREATED:20231208T021259Z
LAST-MODIFIED:20240327T085218Z
UID:1831-1714262400-1714348799@go2.in.th
SUMMARY:รายการแข่ง Buddy Go championship
DESCRIPTION:เปิดรับสมัครแล้ว!! 📢\nกับงานแข่งหมากล้อมครั้งที่ 2 ของปี รายการเเข่งขันหมากล้อม Robinson Buddy GO & Go Family Championship 2024 🔥🔥\nเเข่งขันในวันอาทิตย์ที่ 28 เมษายน 2024\n📍 Robinson Lifestyle ศรีสมาน \nประเภทการแข่งขัน \n1. ระดับฝีมือ 1 ดั้งถึง 2 ดั้ง\n2. High Kyu ระดับฝีมือ 2 คิวถึง 1 คิว\n3. High Kyu ระดับฝีมือ 4 คิวถึง 3 คิว\n4. Low Kyu ระดับฝีมือ 6 คิวถึง 5 คิว\n5. Low Kyu ระดับฝีมือ 8 คิวถึง 7 คิว\n6. ระดับฝีมือ 9 คิวถึง 12 คิว\nรุ่น 1-6 แข่งกระดาน 19×19 \n7. ระดับฝีมือ 9 คิวถึง 12 คิว ระดับมัธยม แข่งกระดาน 13×13\n8. ระดับฝีมือ 9 คิวถึง 12 คิว ระดับประถม แข่งกระดาน 13×13\n9. ระดับฝีมือ 9 คิวถึง 12 คิว ระดับมัธยม แข่งกระดาน 9×9\n10. ระดับฝีมือ 9 คิวถึง 12 คิว ระดับประถม แข่งกระดาน 9×9 \nช่องทางการรับสมัคร:\nhttps://forms.gle/381kHjSDP2HAortY8 \nสอบถามข้อมูลเพิ่มเติม: https://lin.ee/T3cbVY7
URL:https://go2.in.th/event/%e0%b8%a3%e0%b8%b2%e0%b8%a2%e0%b8%81%e0%b8%b2%e0%b8%a3%e0%b9%81%e0%b8%82%e0%b9%88%e0%b8%87-buddy-go-championship/
LOCATION:ห้างสรรพสินค้าโรบินสัน ศรีสมาน\, Nonthaburi\, Thailand
CATEGORIES:รายการแข่ง
ATTACH;FMTTYPE=image/png:https://go2.in.th/wp-content/uploads/2023/12/Buddy21APR24.png
END:VEVENT
BEGIN:VEVENT
DTSTART;VALUE=DATE:20240420
DTEND;VALUE=DATE:20240421
DTSTAMP:20260424T223628
CREATED:20231208T020937Z
LAST-MODIFIED:20240327T083428Z
UID:1829-1713571200-1713657599@go2.in.th
SUMMARY:Natha community Go Tournament 2024
DESCRIPTION:Natha community Go Tournament 2024\nชมรมจิตอาสาหมากล้อม ร่วมกับวัดพระบาทน้ำพุ และสมาคมกีฬาหมากล้อมแห่งประเทศไทย\nจัดการแข่งขันหมากล้อมชิงถ้วยรางวัลหลวงพ่ออลงกต \nในวันเสาร์ที่ 20 เมษายน 2567\nณ The Tara ชั้น B1 (ซีพีออลล์แจ้งวัฒนะ) \nรุ่นการแข่งขัน\n1. รุ่น 1 ดั้ง 32 คน\n2. รุ่น 2 ดั้ง- 3 ดั้ง 24 คน\n3. รุ่น 1-2 คิว 32 คน\n4. รุ่น 3-4 คิว 32 คน\n5. รุ่น 5-6 คิว 32 คน\n6. รุ่น 7-8 คิว 32 คน\n7. รุ่น 9-10 คิว 32คน\n8. รุ่น 11-12 คิว 32คน\n9. Friendship 64 คน\n(จำนวนผู้สมัครและรุ่นอาจมีการเปลี่ยนแปลงตามความเหมาะสม) \nค่าสมัคร ทุกรุ่น 400 บาท\nโดยรายได้หลังหักค่าใช้จ่ายบริจาคให้กับทางวัดพระบาทน้ำพุ\nชำระค่าสมัคร บัญชี ธนาคารกรุงเทพ\n0477111686\nนายรัชชยุต ภูวัชร์เตชากร\nรับสมัคร วันนี้ถึง 15 เมษายน 2567 หรือเต็มจำนวน \nสมัคร\nhttps://docs.google.com/forms/d/e/1FAIpQLSdjF8rsehHmbctBWqM-xUgS3gw0HWTG_zEZN3OyZHUjoTo-ig/viewform \nตรวจสอบ\nhttps://docs.google.com/spreadsheets/d/1jhAUcxjH6byaFJbxxBBwqeKzs23u-1M5XGcdhahiJIA/edit#gid=1893792220
URL:https://go2.in.th/event/%e0%b8%a3%e0%b8%b2%e0%b8%a2%e0%b8%81%e0%b8%b2%e0%b8%a3%e0%b9%81%e0%b8%82%e0%b9%88%e0%b8%87-%e0%b8%87%e0%b8%b2%e0%b8%99%e0%b8%99%e0%b8%b2%e0%b8%96%e0%b8%b0/
LOCATION:Rayong
CATEGORIES:รายการแข่ง
ATTACH;FMTTYPE=image/jpeg:https://go2.in.th/wp-content/uploads/2023/12/NataGO-3-1536x1127-1.jpg
END:VEVENT
BEGIN:VEVENT
DTSTART;VALUE=DATE:20240203
DTEND;VALUE=DATE:20240204
DTSTAMP:20260424T223628
CREATED:20231208T020241Z
LAST-MODIFIED:20231208T020241Z
UID:1823-1706918400-1707004799@go2.in.th
SUMMARY:รายการแข่ง BPK Maklom Championship 2024
DESCRIPTION:ยังไม่มีรายละเอียด
URL:https://go2.in.th/event/%e0%b8%a3%e0%b8%b2%e0%b8%a2%e0%b8%81%e0%b8%b2%e0%b8%a3%e0%b9%81%e0%b8%82%e0%b9%88%e0%b8%87-bpk-maklom-championship-2024/
LOCATION:โรงเรียนบางปะกอกวิทยาคม\, Bangkok\, Thailand
CATEGORIES:รายการแข่ง
END:VEVENT
BEGIN:VEVENT
DTSTART;VALUE=DATE:20240114
DTEND;VALUE=DATE:20240115
DTSTAMP:20260424T223628
CREATED:20231208T005009Z
LAST-MODIFIED:20231208T030850Z
UID:1809-1705190400-1705276799@go2.in.th
SUMMARY:รายการแข่ง Robinson Buddy Go Family Championship 2024
DESCRIPTION:ขอเชิญเข้าร่วมการแข่งขันหมากล้อมรายการ Robinson Buddy Go Family Championship 2024 @ Srisamarn\nวันอาทิตย์ที่ 14 มกราคม 2567\nณ ห้างสรรพสินค้าโรบินสัน ศรีสมาน \nรายละเอียดเพิ่มเติม\nhttps://www.thaigo.org/รับสมัครแข่งขัน-robinson-buddy-go-family-championship-2024/
URL:https://go2.in.th/event/%e0%b8%a3%e0%b8%b2%e0%b8%a2%e0%b8%81%e0%b8%b2%e0%b8%a3%e0%b9%81%e0%b8%82%e0%b9%88%e0%b8%87-robinson-buddy-go-family-championship-2024/
LOCATION:ห้างสรรพสินค้าโรบินสัน ศรีสมาน\, Nonthaburi\, Thailand
CATEGORIES:รายการแข่ง
ATTACH;FMTTYPE=image/png:https://go2.in.th/wp-content/uploads/2023/12/buddygo-1.png
END:VEVENT
BEGIN:VEVENT
DTSTART;TZID=Asia/Krasnoyarsk:20240106T090000
DTEND;TZID=Asia/Krasnoyarsk:20240107T183000
DTSTAMP:20260424T223628
CREATED:20231208T011739Z
LAST-MODIFIED:20231208T031319Z
UID:1818-1704531600-1704652200@go2.in.th
SUMMARY:รายการแข่ง Thailand Go Championship ประจำปี 2567 ครั้งที่ 1
DESCRIPTION:การแข่งขัน Thailand Go Championship ประจำปี 2567 ครั้งที่ 1 \nสมาคมกีฬาหมากล้อมแห่งประเทศไทย และ บริษัท ซีพี ออลล์ จำกัด (มหาชน) ร่วมกันจัดการแข่งขัน Thailand Go\nChampionship ประจำปี 2567 ครั้งที่ 1 ในวันที่ 6 – 7 มกราคม 2567 เพื่อเป็นการคัดเลือกตัวแทนประเทศไทยเข้าร่วม\nการแข่งขันระดับนานาชาติที่ไม่จำกัดอายุ ระหว่างเดือนมกราคม – มิถุนายน 2567 \n*ระดับฝีมือ 1 ดั้งขึ้นไป \nรายละเอียดเพิ่มเติม\nhttps://www.thaigo.org/รับสมัคร-thailand-go-championship-ประจำปี-2567-ครั/
URL:https://go2.in.th/event/%e0%b8%a3%e0%b8%b2%e0%b8%a2%e0%b8%81%e0%b8%b2%e0%b8%a3%e0%b9%81%e0%b8%82%e0%b9%88%e0%b8%87-thailand-go-championship-%e0%b8%9b%e0%b8%a3%e0%b8%b0%e0%b8%88%e0%b8%b3%e0%b8%9b%e0%b8%b5-2567-%e0%b8%84/
LOCATION:สมาคมกีฬาหมากล้อมแห่งประเทศไทย (สีลม)\, Bangkok\, Thailand
CATEGORIES:รายการแข่ง
ATTACH;FMTTYPE=image/png:https://go2.in.th/wp-content/uploads/2023/12/TGL-1-2024.png
END:VEVENT
BEGIN:VEVENT
DTSTART;TZID=Asia/Krasnoyarsk:20231216T080000
DTEND;TZID=Asia/Krasnoyarsk:20231217T180000
DTSTAMP:20260424T223628
CREATED:20231208T002127Z
LAST-MODIFIED:20231208T023955Z
UID:1803-1702713600-1702836000@go2.in.th
SUMMARY:รายการแข่ง The Street Go Championship 2023
DESCRIPTION:📣การแข่งขันหมากล้อม\nThe STREET CHAMPIONSHIP 2023 🌟ชิงเงินรางวัลกว่า70\,000บาท🌟\nเปิดรับสมัคร นักกีฬาและผู้ที่สนใจเข้าร่วมการแข่งขันกีฬาหมากล้อม\nแข่งวันเสาร์-อาทิตย์ 16-17 ธันวาคม แข่ง 2 วัน\nณ ศูนย์การค้า THE STREET (ถนนรัชดาภิเษก)
URL:https://go2.in.th/event/%e0%b8%a3%e0%b8%b2%e0%b8%a2%e0%b8%81%e0%b8%b2%e0%b8%a3%e0%b9%81%e0%b8%82%e0%b9%88%e0%b8%87-the-street-go-championship-2023/
LOCATION:ศูนย์การค้า เดอะ สตรีท รัชดา\, Bangkok\, Thailand
CATEGORIES:รายการแข่ง
ATTACH;FMTTYPE=image/png:https://go2.in.th/wp-content/uploads/2023/12/the-street_edit.png
END:VEVENT
BEGIN:VEVENT
DTSTART;VALUE=DATE:20231210
DTEND;VALUE=DATE:20231211
DTSTAMP:20260424T223628
CREATED:20231208T035419Z
LAST-MODIFIED:20231208T035419Z
UID:1862-1702166400-1702252799@go2.in.th
SUMMARY:รายการแข่ง PHETCHABURI-PCK GO OPEN 2023
DESCRIPTION:เชิญเข้าร่วม 🏆การแข่งขัน PHETCHABURI-PCK Go Open 2023\nวันอาทิตย์ที่ 10 ธันวาคม 2566\nณ ห้องประชุมเพชรพระจอมเกล้า ชั้น 9 อาคารพิฆเนศวรสุรสังกาศ\nโรงพยาบาลพระจอมเกล้า จังหวัดเพชรบุรี \nรายได้โดยไม่หักค่าใช้จ่าย มอบให้โรงพยาบาลพระจอมเกล้า จังหวัดเพชรบุรี\nเพื่อจัดหาเครื่องมือทางการแพทย์ \nอ่านรายละเอียดเพิ่มเติม\nhttps://www.thaigo.org/รับสมัคร-phetchaburi-pck-go-open-2023/
URL:https://go2.in.th/event/%e0%b8%a3%e0%b8%b2%e0%b8%a2%e0%b8%81%e0%b8%b2%e0%b8%a3%e0%b9%81%e0%b8%82%e0%b9%88%e0%b8%87-phetchaburi-pck-go-open-2023/
LOCATION:โรงพยาบาลพระจอมเกล้า\, Phetchaburi\, Thailand
CATEGORIES:รายการแข่ง
ATTACH;FMTTYPE=image/png:https://go2.in.th/wp-content/uploads/2023/12/PCK.png
END:VEVENT
BEGIN:VEVENT
DTSTART;TZID=Asia/Krasnoyarsk:20231209T080000
DTEND;TZID=Asia/Krasnoyarsk:20231210T180000
DTSTAMP:20260424T223628
CREATED:20231208T033629Z
LAST-MODIFIED:20231208T033712Z
UID:1857-1702108800-1702231200@go2.in.th
SUMMARY:รายการแข่ง 2nd Central Thailand Team Go Championship 2023
DESCRIPTION:การแข่งขัน 2nd Central Thailand Team Go Championship 2023\nจะแข่งขันที่ เซ็นทรัลบางนา  บางนาฮอลล์ ชั้น B1\nระหว่างวันที่ 9-10 ธันวาคม 2566 \nเปิดรับสมัครแล้วกับงานแข่งขันประเภททีมสุดมันส์งานเดียวของประเทศไทย\nเตรียมทีมให้พร้อมกับมหกรรมการแข่งขันหมากล้อมสุดยิ่งใหญ่แห่งปี 2023 \nพิเศษกว่าเดิมปีนี้ กับงานระดับ อินเตอร์ครั้งแรกในรอบห้าปี\nกับงานการแข่งขันระดับนานาชาติ \nร่วมเชียร์เหล่าสุดยอดนักกีฬาของประเทศไทย\nปะทะกับนักกีฬาระดับแนวหน้าจากประเทศต่างๆ\nอาทิเช่นเกาหลี ญี่ปุ่น จีน สิงคโปร์ ร่วมชิงเงินรางวัลกว่า 100\,000 บาท \nอ่านรายละเอียดเพิ่มเติม\nhttps://www.thaigo.org/ขอเชิญสมัคร-2nd-central-thailand-team-go-championship-2023/
URL:https://go2.in.th/event/%e0%b8%a3%e0%b8%b2%e0%b8%a2%e0%b8%81%e0%b8%b2%e0%b8%a3%e0%b9%81%e0%b8%82%e0%b9%88%e0%b8%87-2nd-central-thailand-team-go-championship-2023/
LOCATION:ห้างสรรพสินค้าเซ็นทรัล บางนา\, Bangkok\, Thailand
CATEGORIES:รายการแข่ง
ATTACH;FMTTYPE=image/png:https://go2.in.th/wp-content/uploads/2023/12/Central.png
END:VEVENT
END:VCALENDAR